BEGIN:VCALENDAR
VERSION:2.0
PRODID:-//Ashdown Probus Club - ECPv6.15.20//NONSGML v1.0//EN
CALSCALE:GREGORIAN
METHOD:PUBLISH
X-ORIGINAL-URL:https://ashdownprobus.org.uk
X-WR-CALDESC:Events for Ashdown Probus Club
REFRESH-INTERVAL;VALUE=DURATION:PT1H
X-Robots-Tag:noindex
X-PUBLISHED-TTL:PT1H
BEGIN:VTIMEZONE
TZID:Europe/London
BEGIN:DAYLIGHT
TZOFFSETFROM:+0000
TZOFFSETTO:+0100
TZNAME:BST
DTSTART:20230326T010000
END:DAYLIGHT
BEGIN:STANDARD
TZOFFSETFROM:+0100
TZOFFSETTO:+0000
TZNAME:GMT
DTSTART:20231029T010000
END:STANDARD
BEGIN:DAYLIGHT
TZOFFSETFROM:+0000
TZOFFSETTO:+0100
TZNAME:BST
DTSTART:20240331T010000
END:DAYLIGHT
BEGIN:STANDARD
TZOFFSETFROM:+0100
TZOFFSETTO:+0000
TZNAME:GMT
DTSTART:20241027T010000
END:STANDARD
BEGIN:DAYLIGHT
TZOFFSETFROM:+0000
TZOFFSETTO:+0100
TZNAME:BST
DTSTART:20250330T010000
END:DAYLIGHT
BEGIN:STANDARD
TZOFFSETFROM:+0100
TZOFFSETTO:+0000
TZNAME:GMT
DTSTART:20251026T010000
END:STANDARD
BEGIN:DAYLIGHT
TZOFFSETFROM:+0000
TZOFFSETTO:+0100
TZNAME:BST
DTSTART:20260329T010000
END:DAYLIGHT
BEGIN:STANDARD
TZOFFSETFROM:+0100
TZOFFSETTO:+0000
TZNAME:GMT
DTSTART:20261025T010000
END:STANDARD
BEGIN:DAYLIGHT
TZOFFSETFROM:+0000
TZOFFSETTO:+0100
TZNAME:BST
DTSTART:20270328T010000
END:DAYLIGHT
BEGIN:STANDARD
TZOFFSETFROM:+0100
TZOFFSETTO:+0000
TZNAME:GMT
DTSTART:20271031T010000
END:STANDARD
END:VTIMEZONE
BEGIN:VEVENT
DTSTART;TZID=Europe/London:20260413T120000
DTEND;TZID=Europe/London:20260413T150000
DTSTAMP:20260419T143221
CREATED:20260101T113422Z
LAST-MODIFIED:20260324T093252Z
UID:11324-1776081600-1776092400@ashdownprobus.org.uk
SUMMARY:Monthly Luncheon - April and Annual General Meeting
DESCRIPTION:Access to the event details is for members only. Please click "Members Login" above to continue to the event page. If you are not already a member why not join us? To download a membership application form: Please click here
URL:https://ashdownprobus.org.uk/function/lunch-and-annual-general-meeting/
LOCATION:Crowborough Beacon Golf Club\, Crowborough Beacon Golf Club\, Beacon Road\, Crowborough\, East Sussex\, TN6 1UJ\, United Kingdom
CATEGORIES:Lunches
ATTACH;FMTTYPE=image/jpeg:https://ashdownprobus.org.uk/wp-content/uploads/2025/10/IMG_0703.jpeg
ORGANIZER;CN="Mike Theobald":MAILTO:mikegtheobald1945@btinternet.com
END:VEVENT
BEGIN:VEVENT
DTSTART;TZID=Europe/London:20260409T120000
DTEND;TZID=Europe/London:20260409T120000
DTSTAMP:20260419T143221
CREATED:20260101T113809Z
LAST-MODIFIED:20260101T113812Z
UID:11328-1775736000-1775736000@ashdownprobus.org.uk
SUMMARY:Advice deadline - April luncheon and AGM
DESCRIPTION:Access to the event details is for members only. Please click "Members Login" above to continue to the event page. If you are not already a member why not join us? To download a membership application form: Please click here
URL:https://ashdownprobus.org.uk/function/advice-deadline-april-luncheon-and-agm/
LOCATION:Crowborough Beacon Golf Club\, Crowborough Beacon Golf Club\, Beacon Road\, Crowborough\, East Sussex\, TN6 1UJ\, United Kingdom
CATEGORIES:Lunches
ATTACH;FMTTYPE=image/jpeg:https://ashdownprobus.org.uk/wp-content/uploads/2024/09/lunch_reminder8.jpg
ORGANIZER;CN="Mike Theobald":MAILTO:mikegtheobald1945@btinternet.com
END:VEVENT
BEGIN:VEVENT
DTSTART;TZID=Europe/London:20260228T120000
DTEND;TZID=Europe/London:20260228T120000
DTSTAMP:20260419T143221
CREATED:20260104T111113Z
LAST-MODIFIED:20260115T153611Z
UID:11373-1772280000-1772280000@ashdownprobus.org.uk
SUMMARY:Booking deadline President's lunch
DESCRIPTION:Access to the event details is for members only. Please click "Members Login" above to continue to the event page. If you are not already a member why not join us? To download a membership application form: Please click here
URL:https://ashdownprobus.org.uk/function/booking-deadline-presidents-lunch/
LOCATION:The Hydro Hotel\, Mount Road\, Eastbourne\, East Sussex\, BN20 7HZ
CATEGORIES:Functions,Lunches
ATTACH;FMTTYPE=image/jpeg:https://ashdownprobus.org.uk/wp-content/uploads/2024/10/Bookingdeadline.jpg
ORGANIZER;CN="Paul Black":MAILTO:p.d.black@me.com
END:VEVENT
BEGIN:VEVENT
DTSTART;TZID=Europe/London:20260209T120000
DTEND;TZID=Europe/London:20260209T143000
DTSTAMP:20260419T143221
CREATED:20250927T073730Z
LAST-MODIFIED:20251020T082808Z
UID:11149-1770638400-1770647400@ashdownprobus.org.uk
SUMMARY:Monthly Luncheon - February 2026
DESCRIPTION:Access to the event details is for members only. Please click "Members Login" above to continue to the event page. If you are not already a member why not join us? To download a membership application form: Please click here
URL:https://ashdownprobus.org.uk/function/monthly-luncheon-february-2026/
LOCATION:Crowborough Beacon Golf Club\, Crowborough Beacon Golf Club\, Beacon Road\, Crowborough\, East Sussex\, TN6 1UJ\, United Kingdom
CATEGORIES:Lunches
ATTACH;FMTTYPE=image/jpeg:https://ashdownprobus.org.uk/wp-content/uploads/2025/10/IMG_0701.jpeg
END:VEVENT
BEGIN:VEVENT
DTSTART;TZID=Europe/London:20260205T120000
DTEND;TZID=Europe/London:20260205T120000
DTSTAMP:20260419T143221
CREATED:20250927T074329Z
LAST-MODIFIED:20250927T074332Z
UID:11157-1770292800-1770292800@ashdownprobus.org.uk
SUMMARY:Advice deadline - February luncheon
DESCRIPTION:Access to the event details is for members only. Please click "Members Login" above to continue to the event page. If you are not already a member why not join us? To download a membership application form: Please click here
URL:https://ashdownprobus.org.uk/function/advice-deadline-february-luncheon-2/
LOCATION:Crowborough Beacon Golf Club\, Crowborough Beacon Golf Club\, Beacon Road\, Crowborough\, East Sussex\, TN6 1UJ\, United Kingdom
CATEGORIES:Lunches
ATTACH;FMTTYPE=image/jpeg:https://ashdownprobus.org.uk/wp-content/uploads/2024/09/lunch_reminder8.jpg
ORGANIZER;CN="Mike Theobald":MAILTO:mikegtheobald1945@btinternet.com
END:VEVENT
BEGIN:VEVENT
DTSTART;TZID=Europe/London:20260112T120000
DTEND;TZID=Europe/London:20260112T143000
DTSTAMP:20260419T143221
CREATED:20250927T072736Z
LAST-MODIFIED:20260104T110725Z
UID:11141-1768219200-1768228200@ashdownprobus.org.uk
SUMMARY:Monthly Luncheon and EGM        January 2026
DESCRIPTION:Access to the event details is for members only. Please click "Members Login" above to continue to the event page. If you are not already a member why not join us? To download a membership application form: Please click here
URL:https://ashdownprobus.org.uk/function/monthly-luncheon-january-2026/
LOCATION:Crowborough Beacon Golf Club\, Crowborough Beacon Golf Club\, Beacon Road\, Crowborough\, East Sussex\, TN6 1UJ\, United Kingdom
CATEGORIES:Lunches
ATTACH;FMTTYPE=image/jpeg:https://ashdownprobus.org.uk/wp-content/uploads/2025/10/IMG_0706.jpeg
END:VEVENT
BEGIN:VEVENT
DTSTART;TZID=Europe/London:20260108T120000
DTEND;TZID=Europe/London:20260108T120000
DTSTAMP:20260419T143221
CREATED:20250927T073101Z
LAST-MODIFIED:20250927T073105Z
UID:11146-1767873600-1767873600@ashdownprobus.org.uk
SUMMARY:Advice deadline - January luncheon
DESCRIPTION:Access to the event details is for members only. Please click "Members Login" above to continue to the event page. If you are not already a member why not join us? To download a membership application form: Please click here
URL:https://ashdownprobus.org.uk/function/advice-deadline-january-luncheon-2/
LOCATION:Crowborough Beacon Golf Club\, Crowborough Beacon Golf Club\, Beacon Road\, Crowborough\, East Sussex\, TN6 1UJ\, United Kingdom
CATEGORIES:Lunches
ATTACH;FMTTYPE=image/jpeg:https://ashdownprobus.org.uk/wp-content/uploads/2024/09/lunch_reminder8.jpg
ORGANIZER;CN="Mike Theobald":MAILTO:mikegtheobald1945@btinternet.com
END:VEVENT
BEGIN:VEVENT
DTSTART;TZID=Europe/London:20251203T120000
DTEND;TZID=Europe/London:20251203T150000
DTSTAMP:20260419T143221
CREATED:20250118T102838Z
LAST-MODIFIED:20250910T170553Z
UID:10475-1764763200-1764774000@ashdownprobus.org.uk
SUMMARY:Christmas lunch 2025
DESCRIPTION:Access to the event details is for members only. Please click "Members Login" above to continue to the event page. If you are not already a member why not join us? To download a membership application form: Please click here
URL:https://ashdownprobus.org.uk/function/december-2025-christmas-lunch/
LOCATION:Crowborough Beacon Golf Club\, Crowborough Beacon Golf Club\, Beacon Road\, Crowborough\, East Sussex\, TN6 1UJ\, United Kingdom
CATEGORIES:Functions,Lunches
ATTACH;FMTTYPE=image/jpeg:https://ashdownprobus.org.uk/wp-content/uploads/2024/06/christmas24.jpg
ORGANIZER;CN="Paul Black":MAILTO:p.d.black@me.com
END:VEVENT
BEGIN:VEVENT
DTSTART;TZID=Europe/London:20251110T120000
DTEND;TZID=Europe/London:20251110T143000
DTSTAMP:20260419T143221
CREATED:20250519T123306Z
LAST-MODIFIED:20251005T064046Z
UID:10810-1762776000-1762785000@ashdownprobus.org.uk
SUMMARY:Monthly Luncheon - November
DESCRIPTION:Access to the event details is for members only. Please click "Members Login" above to continue to the event page. If you are not already a member why not join us? To download a membership application form: Please click here
URL:https://ashdownprobus.org.uk/function/monthly-luncheon-quiz-november/
LOCATION:Crowborough Beacon Golf Club\, Crowborough Beacon Golf Club\, Beacon Road\, Crowborough\, East Sussex\, TN6 1UJ\, United Kingdom
CATEGORIES:Lunches
ATTACH;FMTTYPE=image/jpeg:https://ashdownprobus.org.uk/wp-content/uploads/2024/01/table1.jpg
ORGANIZER;CN="Mike Theobald":MAILTO:mikegtheobald1945@btinternet.com
END:VEVENT
BEGIN:VEVENT
DTSTART;TZID=Europe/London:20251106T120000
DTEND;TZID=Europe/London:20251106T120000
DTSTAMP:20260419T143221
CREATED:20250519T123700Z
LAST-MODIFIED:20250707T202844Z
UID:10813-1762430400-1762430400@ashdownprobus.org.uk
SUMMARY:Advice deadline - November luncheon
DESCRIPTION:Access to the event details is for members only. Please click "Members Login" above to continue to the event page. If you are not already a member why not join us? To download a membership application form: Please click here
URL:https://ashdownprobus.org.uk/function/advice-deadline-november-luncheon-2/
LOCATION:Crowborough Beacon Golf Club\, Crowborough Beacon Golf Club\, Beacon Road\, Crowborough\, East Sussex\, TN6 1UJ\, United Kingdom
CATEGORIES:Lunches
ATTACH;FMTTYPE=image/jpeg:https://ashdownprobus.org.uk/wp-content/uploads/2024/09/lunch_reminder8.jpg
ORGANIZER;CN="Mike Theobald":MAILTO:mikegtheobald1945@btinternet.com
END:VEVENT
BEGIN:VEVENT
DTSTART;TZID=Europe/London:20251013T120000
DTEND;TZID=Europe/London:20251013T143000
DTSTAMP:20260419T143221
CREATED:20250519T122631Z
LAST-MODIFIED:20251005T063926Z
UID:10806-1760356800-1760365800@ashdownprobus.org.uk
SUMMARY:Monthly Luncheon - October
DESCRIPTION:Access to the event details is for members only. Please click "Members Login" above to continue to the event page. If you are not already a member why not join us? To download a membership application form: Please click here
URL:https://ashdownprobus.org.uk/function/monthly-luncheon-october-6/
LOCATION:Crowborough Beacon Golf Club\, Crowborough Beacon Golf Club\, Beacon Road\, Crowborough\, East Sussex\, TN6 1UJ\, United Kingdom
CATEGORIES:Lunches
ATTACH;FMTTYPE=image/jpeg:https://ashdownprobus.org.uk/wp-content/uploads/2024/11/IMG_8952.jpg
ORGANIZER;CN="Mike Theobald":MAILTO:mikegtheobald1945@btinternet.com
END:VEVENT
BEGIN:VEVENT
DTSTART;TZID=Europe/London:20251009T120000
DTEND;TZID=Europe/London:20251009T120000
DTSTAMP:20260419T143221
CREATED:20250519T122820Z
LAST-MODIFIED:20250707T202649Z
UID:10808-1760011200-1760011200@ashdownprobus.org.uk
SUMMARY:Advice deadline - October luncheon
DESCRIPTION:Access to the event details is for members only. Please click "Members Login" above to continue to the event page. If you are not already a member why not join us? To download a membership application form: Please click here
URL:https://ashdownprobus.org.uk/function/advice-deadline-october-luncheon-2/
LOCATION:Crowborough Beacon Golf Club\, Crowborough Beacon Golf Club\, Beacon Road\, Crowborough\, East Sussex\, TN6 1UJ\, United Kingdom
CATEGORIES:Lunches
ATTACH;FMTTYPE=image/jpeg:https://ashdownprobus.org.uk/wp-content/uploads/2024/09/lunch_reminder8.jpg
ORGANIZER;CN="Mike Theobald":MAILTO:mikegtheobald1945@btinternet.com
END:VEVENT
BEGIN:VEVENT
DTSTART;TZID=Europe/London:20250908T120000
DTEND;TZID=Europe/London:20250908T143000
DTSTAMP:20260419T143221
CREATED:20250519T121545Z
LAST-MODIFIED:20250805T065022Z
UID:10802-1757332800-1757341800@ashdownprobus.org.uk
SUMMARY:Monthly Luncheon - September
DESCRIPTION:Access to the event details is for members only. Please click "Members Login" above to continue to the event page. If you are not already a member why not join us? To download a membership application form: Please click here
URL:https://ashdownprobus.org.uk/function/monthly-luncheon-september/
LOCATION:Crowborough Beacon Golf Club\, Crowborough Beacon Golf Club\, Beacon Road\, Crowborough\, East Sussex\, TN6 1UJ\, United Kingdom
CATEGORIES:Lunches
ATTACH;FMTTYPE=image/jpeg:https://ashdownprobus.org.uk/wp-content/uploads/2024/01/table2.jpg
ORGANIZER;CN="Phil Parker":MAILTO:phil@lywood-david.co.uk
END:VEVENT
BEGIN:VEVENT
DTSTART;TZID=Europe/London:20250904T120000
DTEND;TZID=Europe/London:20250904T120000
DTSTAMP:20260419T143221
CREATED:20250519T121124Z
LAST-MODIFIED:20250707T202409Z
UID:10800-1756987200-1756987200@ashdownprobus.org.uk
SUMMARY:Advice deadline - September luncheon
DESCRIPTION:Access to the event details is for members only. Please click "Members Login" above to continue to the event page. If you are not already a member why not join us? To download a membership application form: Please click here
URL:https://ashdownprobus.org.uk/function/advice-deadline-september-luncheon-2/
LOCATION:Crowborough Beacon Golf Club\, Crowborough Beacon Golf Club\, Beacon Road\, Crowborough\, East Sussex\, TN6 1UJ\, United Kingdom
CATEGORIES:Lunches
ATTACH;FMTTYPE=image/jpeg:https://ashdownprobus.org.uk/wp-content/uploads/2024/09/lunch_reminder8.jpg
ORGANIZER;CN="Mike Theobald":MAILTO:mikegtheobald1945@btinternet.com
END:VEVENT
BEGIN:VEVENT
DTSTART;TZID=Europe/London:20250804T120000
DTEND;TZID=Europe/London:20250804T143000
DTSTAMP:20260419T143221
CREATED:20250519T120119Z
LAST-MODIFIED:20250707T202255Z
UID:10793-1754308800-1754317800@ashdownprobus.org.uk
SUMMARY:Monthly Luncheon - August
DESCRIPTION:Access to the event details is for members only. Please click "Members Login" above to continue to the event page. If you are not already a member why not join us? To download a membership application form: Please click here
URL:https://ashdownprobus.org.uk/function/monthly-luncheon-august/
LOCATION:Crowborough Beacon Golf Club\, Crowborough Beacon Golf Club\, Beacon Road\, Crowborough\, East Sussex\, TN6 1UJ\, United Kingdom
CATEGORIES:Lunches
ATTACH;FMTTYPE=image/jpeg:https://ashdownprobus.org.uk/wp-content/uploads/2024/11/IMG_8954.jpg
ORGANIZER;CN="Phil Parker":MAILTO:phil@lywood-david.co.uk
END:VEVENT
BEGIN:VEVENT
DTSTART;TZID=Europe/London:20250731T120000
DTEND;TZID=Europe/London:20250731T120000
DTSTAMP:20260419T143221
CREATED:20250519T120748Z
LAST-MODIFIED:20250707T201940Z
UID:10796-1753963200-1753963200@ashdownprobus.org.uk
SUMMARY:Advice deadline - August luncheon
DESCRIPTION:Access to the event details is for members only. Please click "Members Login" above to continue to the event page. If you are not already a member why not join us? To download a membership application form: Please click here
URL:https://ashdownprobus.org.uk/function/advice-deadline-august-luncheon/
LOCATION:Crowborough Beacon Golf Club\, Crowborough Beacon Golf Club\, Beacon Road\, Crowborough\, East Sussex\, TN6 1UJ\, United Kingdom
CATEGORIES:Lunches
ATTACH;FMTTYPE=image/jpeg:https://ashdownprobus.org.uk/wp-content/uploads/2024/09/lunch_reminder8.jpg
ORGANIZER;CN="Mike Theobald":MAILTO:mikegtheobald1945@btinternet.com
END:VEVENT
BEGIN:VEVENT
DTSTART;TZID=Europe/London:20250707T120000
DTEND;TZID=Europe/London:20250707T143000
DTSTAMP:20260419T143221
CREATED:20241205T200133Z
LAST-MODIFIED:20250618T060105Z
UID:10256-1751889600-1751898600@ashdownprobus.org.uk
SUMMARY:Monthly Luncheon - July
DESCRIPTION:Access to the event details is for members only. Please click "Members Login" above to continue to the event page. If you are not already a member why not join us? To download a membership application form: Please click here
URL:https://ashdownprobus.org.uk/function/monthly-luncheon-july-5/
LOCATION:Crowborough Beacon Golf Club\, Crowborough Beacon Golf Club\, Beacon Road\, Crowborough\, East Sussex\, TN6 1UJ\, United Kingdom
CATEGORIES:Lunches
ATTACH;FMTTYPE=image/jpeg:https://ashdownprobus.org.uk/wp-content/uploads/2024/11/IMG_8949.jpg
ORGANIZER;CN="Phil Parker":MAILTO:phil@lywood-david.co.uk
END:VEVENT
BEGIN:VEVENT
DTSTART;TZID=Europe/London:20250703T120000
DTEND;TZID=Europe/London:20250703T120000
DTSTAMP:20260419T143221
CREATED:20241205T202325Z
LAST-MODIFIED:20250519T121000Z
UID:10267-1751544000-1751544000@ashdownprobus.org.uk
SUMMARY:Advice deadline - July luncheon
DESCRIPTION:Access to the event details is for members only. Please click "Members Login" above to continue to the event page. If you are not already a member why not join us? To download a membership application form: Please click here
URL:https://ashdownprobus.org.uk/function/advice-deadline-july-luncheon/
LOCATION:Crowborough Beacon Golf Club\, Crowborough Beacon Golf Club\, Beacon Road\, Crowborough\, East Sussex\, TN6 1UJ\, United Kingdom
CATEGORIES:Lunches
ATTACH;FMTTYPE=image/jpeg:https://ashdownprobus.org.uk/wp-content/uploads/2024/09/lunch_reminder8.jpg
ORGANIZER;CN="Mike Theobald":MAILTO:mikegtheobald1945@btinternet.com
END:VEVENT
BEGIN:VEVENT
DTSTART;TZID=Europe/London:20250609T120000
DTEND;TZID=Europe/London:20250609T143000
DTSTAMP:20260419T143221
CREATED:20241205T201113Z
LAST-MODIFIED:20250419T091202Z
UID:10260-1749470400-1749479400@ashdownprobus.org.uk
SUMMARY:Monthly Luncheon - June
DESCRIPTION:Access to the event details is for members only. Please click "Members Login" above to continue to the event page. If you are not already a member why not join us? To download a membership application form: Please click here
URL:https://ashdownprobus.org.uk/function/monthly-luncheon-june-6/
LOCATION:Crowborough Beacon Golf Club\, Crowborough Beacon Golf Club\, Beacon Road\, Crowborough\, East Sussex\, TN6 1UJ\, United Kingdom
CATEGORIES:Lunches
ATTACH;FMTTYPE=image/jpeg:https://ashdownprobus.org.uk/wp-content/uploads/2024/11/IMG_8952.jpg
ORGANIZER;CN="Phil Parker":MAILTO:phil@lywood-david.co.uk
END:VEVENT
BEGIN:VEVENT
DTSTART;TZID=Europe/London:20250605T120000
DTEND;TZID=Europe/London:20250605T120000
DTSTAMP:20260419T143221
CREATED:20241205T201727Z
LAST-MODIFIED:20250519T120912Z
UID:10263-1749124800-1749124800@ashdownprobus.org.uk
SUMMARY:Advice deadline - June luncheon
DESCRIPTION:Access to the event details is for members only. Please click "Members Login" above to continue to the event page. If you are not already a member why not join us? To download a membership application form: Please click here
URL:https://ashdownprobus.org.uk/function/advice-deadline-june-luncheon/
LOCATION:Crowborough Beacon Golf Club\, Crowborough Beacon Golf Club\, Beacon Road\, Crowborough\, East Sussex\, TN6 1UJ\, United Kingdom
CATEGORIES:Lunches
ATTACH;FMTTYPE=image/jpeg:https://ashdownprobus.org.uk/wp-content/uploads/2024/09/lunch_reminder8.jpg
ORGANIZER;CN="Mike Theobald":MAILTO:mikegtheobald1945@btinternet.com
END:VEVENT
BEGIN:VEVENT
DTSTART;TZID=Europe/London:20250512T120000
DTEND;TZID=Europe/London:20250512T143000
DTSTAMP:20260419T143221
CREATED:20241022T102129Z
LAST-MODIFIED:20250422T114652Z
UID:9974-1747051200-1747060200@ashdownprobus.org.uk
SUMMARY:Monthly Luncheon - May
DESCRIPTION:Access to the event details is for members only. Please click "Members Login" above to continue to the event page. If you are not already a member why not join us? To download a membership application form: Please click here
URL:https://ashdownprobus.org.uk/function/monthly-luncheon-may-5/
LOCATION:Crowborough Beacon Golf Club\, Crowborough Beacon Golf Club\, Beacon Road\, Crowborough\, East Sussex\, TN6 1UJ\, United Kingdom
CATEGORIES:Lunches
ATTACH;FMTTYPE=image/jpeg:https://ashdownprobus.org.uk/wp-content/uploads/2024/11/IMG_8949.jpg
ORGANIZER;CN="Phil Parker":MAILTO:phil@lywood-david.co.uk
END:VEVENT
BEGIN:VEVENT
DTSTART;TZID=Europe/London:20250508T120000
DTEND;TZID=Europe/London:20250508T120000
DTSTAMP:20260419T143221
CREATED:20241022T103344Z
LAST-MODIFIED:20241022T103345Z
UID:9976-1746705600-1746705600@ashdownprobus.org.uk
SUMMARY:Advice deadline - May luncheon
DESCRIPTION:Access to the event details is for members only. Please click "Members Login" above to continue to the event page. If you are not already a member why not join us? To download a membership application form: Please click here
URL:https://ashdownprobus.org.uk/function/advice-deadline-may-luncheon/
LOCATION:Crowborough Beacon Golf Club\, Crowborough Beacon Golf Club\, Beacon Road\, Crowborough\, East Sussex\, TN6 1UJ\, United Kingdom
CATEGORIES:Lunches
ATTACH;FMTTYPE=image/jpeg:https://ashdownprobus.org.uk/wp-content/uploads/2024/09/lunch_reminder8.jpg
ORGANIZER;CN="Mike Theobald":MAILTO:mikegtheobald1945@btinternet.com
END:VEVENT
BEGIN:VEVENT
DTSTART;TZID=Europe/London:20250414T120000
DTEND;TZID=Europe/London:20250414T143000
DTSTAMP:20260419T143221
CREATED:20241017T222146Z
LAST-MODIFIED:20250109T164934Z
UID:9851-1744632000-1744641000@ashdownprobus.org.uk
SUMMARY:Monthly Luncheon & AGM - April
DESCRIPTION:Access to the event details is for members only. Please click "Members Login" above to continue to the event page. If you are not already a member why not join us? To download a membership application form: Please click here
URL:https://ashdownprobus.org.uk/function/monthly-luncheon-april-3/
LOCATION:Crowborough Beacon Golf Club\, Crowborough Beacon Golf Club\, Beacon Road\, Crowborough\, East Sussex\, TN6 1UJ\, United Kingdom
CATEGORIES:Lunches
ATTACH;FMTTYPE=image/jpeg:https://ashdownprobus.org.uk/wp-content/uploads/2024/01/table1.jpg
ORGANIZER;CN="Mike Theobald":MAILTO:mikegtheobald1945@btinternet.com
END:VEVENT
BEGIN:VEVENT
DTSTART;TZID=Europe/London:20250410T120000
DTEND;TZID=Europe/London:20250410T120000
DTSTAMP:20260419T143221
CREATED:20241017T223444Z
LAST-MODIFIED:20241205T202011Z
UID:9859-1744286400-1744286400@ashdownprobus.org.uk
SUMMARY:Advice deadline - April luncheon & AGM
DESCRIPTION:Access to the event details is for members only. Please click "Members Login" above to continue to the event page. If you are not already a member why not join us? To download a membership application form: Please click here
URL:https://ashdownprobus.org.uk/function/advice-deadline-april-luncheon/
LOCATION:Crowborough Beacon Golf Club\, Crowborough Beacon Golf Club\, Beacon Road\, Crowborough\, East Sussex\, TN6 1UJ\, United Kingdom
CATEGORIES:Lunches
ATTACH;FMTTYPE=image/jpeg:https://ashdownprobus.org.uk/wp-content/uploads/2024/09/lunch_reminder8.jpg
ORGANIZER;CN="Mike Theobald":MAILTO:mikegtheobald1945@btinternet.com
END:VEVENT
BEGIN:VEVENT
DTSTART;TZID=Europe/London:20250228T120000
DTEND;TZID=Europe/London:20250228T120000
DTSTAMP:20260419T143221
CREATED:20241016T164134Z
LAST-MODIFIED:20250207T133539Z
UID:9813-1740744000-1740744000@ashdownprobus.org.uk
SUMMARY:Booking deadline President's lunch
DESCRIPTION:Access to the event details is for members only. Please click "Members Login" above to continue to the event page. If you are not already a member why not join us? To download a membership application form: Please click here
URL:https://ashdownprobus.org.uk/function/booking-deadline-presidents-luncheon/
LOCATION:The Hydro Hotel\, Mount Road\, Eastbourne\, East Sussex\, BN20 7HZ
CATEGORIES:Functions,Lunches
ATTACH;FMTTYPE=image/jpeg:https://ashdownprobus.org.uk/wp-content/uploads/2024/10/Bookingdeadline.jpg
ORGANIZER;CN="Paul Black":MAILTO:p.d.black@me.com
END:VEVENT
BEGIN:VEVENT
DTSTART;TZID=Europe/London:20250210T120000
DTEND;TZID=Europe/London:20250210T143000
DTSTAMP:20260419T143221
CREATED:20241016T134646Z
LAST-MODIFIED:20250109T181049Z
UID:9599-1739188800-1739197800@ashdownprobus.org.uk
SUMMARY:Monthly Luncheon - February 2025
DESCRIPTION:Access to the event details is for members only. Please click "Members Login" above to continue to the event page. If you are not already a member why not join us? To download a membership application form: Please click here
URL:https://ashdownprobus.org.uk/function/monthly-luncheon-february-2025/
LOCATION:Crowborough Beacon Golf Club\, Crowborough Beacon Golf Club\, Beacon Road\, Crowborough\, East Sussex\, TN6 1UJ\, United Kingdom
CATEGORIES:Lunches
ATTACH;FMTTYPE=image/jpeg:https://ashdownprobus.org.uk/wp-content/uploads/2024/01/table2.jpg
ORGANIZER;CN="Mike Theobald":MAILTO:mikegtheobald1945@btinternet.com
END:VEVENT
BEGIN:VEVENT
DTSTART;TZID=Europe/London:20250206T120000
DTEND;TZID=Europe/London:20250206T120000
DTSTAMP:20260419T143221
CREATED:20241003T135116Z
LAST-MODIFIED:20241118T123217Z
UID:9603-1738843200-1738843200@ashdownprobus.org.uk
SUMMARY:Advice deadline - February luncheon
DESCRIPTION:Access to the event details is for members only. Please click "Members Login" above to continue to the event page. If you are not already a member why not join us? To download a membership application form: Please click here
URL:https://ashdownprobus.org.uk/function/advice-deadline-february-luncheon/
LOCATION:Crowborough Beacon Golf Club\, Crowborough Beacon Golf Club\, Beacon Road\, Crowborough\, East Sussex\, TN6 1UJ\, United Kingdom
CATEGORIES:Lunches
ATTACH;FMTTYPE=image/jpeg:https://ashdownprobus.org.uk/wp-content/uploads/2024/09/lunch_reminder8.jpg
ORGANIZER;CN="Mike Theobald":MAILTO:mikegtheobald1945@btinternet.com
END:VEVENT
BEGIN:VEVENT
DTSTART;TZID=Europe/London:20250113T120000
DTEND;TZID=Europe/London:20250113T143000
DTSTAMP:20260419T143221
CREATED:20240928T143244Z
LAST-MODIFIED:20241231T093752Z
UID:9386-1736769600-1736778600@ashdownprobus.org.uk
SUMMARY:Monthly Luncheon - January 2025
DESCRIPTION:Access to the event details is for members only. Please click "Members Login" above to continue to the event page. If you are not already a member why not join us? To download a membership application form: Please click here
URL:https://ashdownprobus.org.uk/function/monthly-luncheon-january-2025-2/
LOCATION:Crowborough Beacon Golf Club\, Crowborough Beacon Golf Club\, Beacon Road\, Crowborough\, East Sussex\, TN6 1UJ\, United Kingdom
CATEGORIES:Lunches
ATTACH;FMTTYPE=image/jpeg:https://ashdownprobus.org.uk/wp-content/uploads/2024/11/IMG_8951.jpg
ORGANIZER;CN="Mike Theobald":MAILTO:mikegtheobald1945@btinternet.com
END:VEVENT
BEGIN:VEVENT
DTSTART;TZID=Europe/London:20250109T120000
DTEND;TZID=Europe/London:20250109T120000
DTSTAMP:20260419T143221
CREATED:20240928T142805Z
LAST-MODIFIED:20240928T232551Z
UID:9384-1736424000-1736424000@ashdownprobus.org.uk
SUMMARY:Advice deadline - January luncheon
DESCRIPTION:Access to the event details is for members only. Please click "Members Login" above to continue to the event page. If you are not already a member why not join us? To download a membership application form: Please click here
URL:https://ashdownprobus.org.uk/function/advice-deadline-january-luncheon/
LOCATION:Crowborough Beacon Golf Club\, Crowborough Beacon Golf Club\, Beacon Road\, Crowborough\, East Sussex\, TN6 1UJ\, United Kingdom
CATEGORIES:Lunches
ATTACH;FMTTYPE=image/jpeg:https://ashdownprobus.org.uk/wp-content/uploads/2024/09/lunch_reminder8.jpg
ORGANIZER;CN="Mike Theobald":MAILTO:mikegtheobald1945@btinternet.com
END:VEVENT
BEGIN:VEVENT
DTSTART;TZID=Europe/London:20241204T120000
DTEND;TZID=Europe/London:20241204T150000
DTSTAMP:20260419T143221
CREATED:20241206T100845Z
LAST-MODIFIED:20250128T225955Z
UID:6929-1733313600-1733324400@ashdownprobus.org.uk
SUMMARY:December 2024: Christmas lunch
DESCRIPTION:Access to the event details is for members only. Please click "Members Login" above to continue to the event page. If you are not already a member why not join us? To download a membership application form: Please click here
URL:https://ashdownprobus.org.uk/function/christmas-lunch-2024/
LOCATION:East Sussex
CATEGORIES:Functions,Lunches,Past Events
ATTACH;FMTTYPE=image/jpeg:https://ashdownprobus.org.uk/wp-content/uploads/2024/06/christmas24.jpg
END:VEVENT
END:VCALENDAR